BEGIN:VCALENDAR
VERSION:2.0
PRODID:-//TYPO3/NONSGML News system (news)//EN
BEGIN:VEVENT
TZID:Central Europe Standard Time
UID:news-63123@rer.raumplanung.tu-dortmund.de
DTSTAMP:20260424T104350Z

DTSTART:20261116


DESCRIPTION:https://rer.raumplanung.tu-dortmund.de/en/eventdetail/trialog-conference-63123/
SUMMARY:TRIALOG Conference
END:VEVENT
END:VCALENDAR
